{
 "currentVersion": 11.5,
 "cimVersion": "3.5.0",
 "serviceDescription": "",
 "mapName": "3794",
 "description": "",
 "copyrightText": "",
 "supportsDynamicLayers": true,
 "layers": [
  {
   "id": 0,
   "name": "TOPO_KARTE_3794.tpkx",
   "parentLayerId": -1,
   "defaultVisibility": true,
   "subLayerIds": null,
   "minScale": 0,
   "maxScale": 0,
   "type": "Raster Layer",
   "supportsDynamicLegends": true
  }
 ],
 "tables": [],
 "spatialReference": {
  "wkid": 3794,
  "latestWkid": 3794,
  "xyTolerance": 0.001,
  "zTolerance": 0.001,
  "mTolerance": 0.001,
  "falseX": -5122600,
  "falseY": -15001100,
  "xyUnits": 4.503104285899046E8,
  "falseZ": -100000,
  "zUnits": 10000,
  "falseM": -100000,
  "mUnits": 10000
 },
 "singleFusedMapCache": true,
 "tileInfo": {
  "rows": 256,
  "cols": 256,
  "dpi": 96,
  "format": "MIXED",
  "compressionQuality": 75,
  "origin": {
   "x": -9500964.53265511,
   "y": 5000964.532655111
  },
  "spatialReference": {
   "wkid": 3794,
   "latestWkid": 3794,
   "xyTolerance": 0.001,
   "zTolerance": 0.001,
   "mTolerance": 0.001,
   "falseX": -5122600,
   "falseY": -15001100,
   "xyUnits": 4.503104285899046E8,
   "falseZ": -100000,
   "zUnits": 10000,
   "falseM": -100000,
   "mUnits": 10000
  },
  "lods": [
   {
    "level": 0,
    "resolution": 78132.53541136805,
    "scale": 2.9530407084611547E8
   },
   {
    "level": 1,
    "resolution": 39066.267705684026,
    "scale": 1.4765203542305773E8
   },
   {
    "level": 2,
    "resolution": 19533.133852842013,
    "scale": 7.382601771152887E7
   },
   {
    "level": 3,
    "resolution": 9766.566926421006,
    "scale": 3.6913008855764434E7
   },
   {
    "level": 4,
    "resolution": 4883.283463210503,
    "scale": 1.8456504427882217E7
   },
   {
    "level": 5,
    "resolution": 2441.6417316052516,
    "scale": 9228252.213941108
   },
   {
    "level": 6,
    "resolution": 1220.8208658026258,
    "scale": 4614126.106970554
   },
   {
    "level": 7,
    "resolution": 610.4104329013129,
    "scale": 2307063.053485277
   },
   {
    "level": 8,
    "resolution": 305.20521645065645,
    "scale": 1153531.5267426386
   },
   {
    "level": 9,
    "resolution": 152.60260822532823,
    "scale": 576765.7633713193
   },
   {
    "level": 10,
    "resolution": 76.30130411266411,
    "scale": 288382.88168565964
   },
   {
    "level": 11,
    "resolution": 38.150652056332056,
    "scale": 144191.44084282982
   },
   {
    "level": 12,
    "resolution": 19.075326028166028,
    "scale": 72095.72042141491
   },
   {
    "level": 13,
    "resolution": 9.537663014083014,
    "scale": 36047.860210707455
   },
   {
    "level": 14,
    "resolution": 4.768831507041507,
    "scale": 18023.930105353727
   },
   {
    "level": 15,
    "resolution": 2.3844157535207535,
    "scale": 9011.965052676864
   },
   {
    "level": 16,
    "resolution": 1.1922078767603768,
    "scale": 4505.982526338432
   },
   {
    "level": 17,
    "resolution": 0.5961039383801884,
    "scale": 2252.991263169216
   },
   {
    "level": 18,
    "resolution": 0.2980519691900942,
    "scale": 1126.495631584608
   }
  ]
 },
 "storageInfo": {
  "storageFormat": "esriMapCacheStorageModeCompactV2",
  "packetSize": 128
 },
 "initialExtent": {
  "xmin": 308549.24584717874,
  "ymin": -56994.394849708755,
  "xmax": 705949.4832725892,
  "ymax": 278468.68845444394,
  "spatialReference": {
   "wkid": 3794,
   "latestWkid": 3794,
   "xyTolerance": 0.001,
   "zTolerance": 0.001,
   "mTolerance": 0.001,
   "falseX": -5122600,
   "falseY": -15001100,
   "xyUnits": 4.503104285899046E8,
   "falseZ": -100000,
   "zUnits": 10000,
   "falseM": -100000,
   "mUnits": 10000
  }
 },
 "fullExtent": {
  "xmin": 369424.0284017585,
  "ymin": -5544.344489467971,
  "xmax": 623760.1191668032,
  "ymax": 209152.02658117097,
  "spatialReference": {
   "wkid": 3794,
   "latestWkid": 3794,
   "xyTolerance": 0.001,
   "zTolerance": 0.001,
   "mTolerance": 0.001,
   "falseX": -5122600,
   "falseY": -15001100,
   "xyUnits": 4.503104285899046E8,
   "falseZ": -100000,
   "zUnits": 10000,
   "falseM": -100000,
   "mUnits": 10000
  }
 },
 "datesInUnknownTimezone": false,
 "minScale": 2.9530407084611547E8,
 "maxScale": 1126.495631584608,
 "units": "esriMeters",
 "supportedImageFormatTypes": "PNG32,PNG24,PNG,JPG,DIB,TIFF,EMF,PS,PDF,GIF,SVG,SVGZ,BMP",
 "documentInfo": {
  "Title": "Map1",
  "Author": "",
  "Comments": "",
  "Subject": "",
  "Category": "",
  "Version": "3.1.0",
  "AntialiasingMode": "Fast",
  "TextAntialiasingMode": "Force",
  "Keywords": "3794,MapServer"
 },
 "supportsQueryDomains": true,
 "capabilities": "Query,Map,Data",
 "supportedQueryFormats": "JSON, geoJSON, PBF",
 "exportTilesAllowed": true,
 "maxExportTilesCount": 100000,
 "referenceScale": 0.0,
 "datumTransformations": [
  {
   "geoTransforms": [
    {
     "wkid": 15976,
     "latestWkid": 15976,
     "transformForward": false,
     "name": "Slovenia_1996_To_WGS_1984_1"
    },
    {
     "wkid": 108076,
     "latestWkid": 108076,
     "transformForward": false,
     "name": "D48_To_D96_2010_GI"
    }
   ]
  },
  {
   "geoTransforms": [
    {
     "wkid": 108076,
     "latestWkid": 108076,
     "transformForward": true,
     "name": "D48_To_D96_2010_GI"
    },
    {
     "wkid": 15976,
     "latestWkid": 15976,
     "transformForward": true,
     "name": "Slovenia_1996_To_WGS_1984_1"
    }
   ]
  },
  {
   "geoTransforms": [
    {
     "wkid": 108076,
     "latestWkid": 108076,
     "transformForward": false,
     "name": "D48_To_D96_2010_GI"
    }
   ]
  },
  {
   "geoTransforms": [
    {
     "wkid": 108076,
     "latestWkid": 108076,
     "transformForward": true,
     "name": "D48_To_D96_2010_GI"
    }
   ]
  },
  {
   "geoTransforms": [
    {
     "wkid": 15976,
     "latestWkid": 15976,
     "transformForward": false,
     "name": "Slovenia_1996_To_WGS_1984_1"
    }
   ]
  },
  {
   "geoTransforms": [
    {
     "wkid": 15976,
     "latestWkid": 15976,
     "transformForward": true,
     "name": "Slovenia_1996_To_WGS_1984_1"
    }
   ]
  }
 ],
 "supportsDatumTransformation": true,
 "archivingInfo": {
  "supportsHistoricMoment": false
 },
 "supportsClipping": true,
 "supportsSpatialFilter": true,
 "supportsTimeRelation": true,
 "supportsQueryDataElements": true,
 "mapUnits": {
  "uwkid": 9001
 },
 "maxSelectionCount": 2000,
 "maxRecordCount": 2000,
 "maxImageHeight": 4096,
 "maxImageWidth": 4096,
 "supportedExtensions": "",
 "serviceItemId": "eec9598b386c48ce9aa58023611a6954"
}
