View In:
ArcGIS JavaScript
ArcGIS Online Map Viewer
ArcGIS Earth
ArcGIS Pro
Service Description:
Map Name: 3794
Legend
All Layers and Tables
Dynamic Legend
Dynamic All Layers
Layers:
Description:
Service Item Id: eec9598b386c48ce9aa58023611a6954
Copyright Text:
Spatial Reference:
3794
(3794)
LatestVCSWkid(0)
Single Fused Map Cache: true
Tile Info:
- Height: 256.0
- Width: 256.0
- DPI: 96.0
-
Levels of Detail: 19
-
Level ID: 0
[ Start Tile, End Tile ]
- Resolution: 78132.53541136805
- Scale: 2.9530407084611547E8
-
Level ID: 1
[ Start Tile, End Tile ]
- Resolution: 39066.267705684026
- Scale: 1.4765203542305773E8
-
Level ID: 2
[ Start Tile, End Tile ]
- Resolution: 19533.133852842013
- Scale: 7.382601771152887E7
-
Level ID: 3
[ Start Tile, End Tile ]
- Resolution: 9766.566926421006
- Scale: 3.6913008855764434E7
-
Level ID: 4
[ Start Tile, End Tile ]
- Resolution: 4883.283463210503
- Scale: 1.8456504427882217E7
-
Level ID: 5
[ Start Tile, End Tile ]
- Resolution: 2441.6417316052516
- Scale: 9228252.213941108
-
Level ID: 6
[ Start Tile, End Tile ]
- Resolution: 1220.8208658026258
- Scale: 4614126.106970554
-
Level ID: 7
[ Start Tile, End Tile ]
- Resolution: 610.4104329013129
- Scale: 2307063.053485277
-
Level ID: 8
[ Start Tile, End Tile ]
- Resolution: 305.20521645065645
- Scale: 1153531.5267426386
-
Level ID: 9
[ Start Tile, End Tile ]
- Resolution: 152.60260822532823
- Scale: 576765.7633713193
-
Level ID: 10
[ Start Tile, End Tile ]
- Resolution: 76.30130411266411
- Scale: 288382.88168565964
-
Level ID: 11
[ Start Tile, End Tile ]
- Resolution: 38.150652056332056
- Scale: 144191.44084282982
-
Level ID: 12
[ Start Tile, End Tile ]
- Resolution: 19.075326028166028
- Scale: 72095.72042141491
-
Level ID: 13
[ Start Tile, End Tile ]
- Resolution: 9.537663014083014
- Scale: 36047.860210707455
-
Level ID: 14
[ Start Tile, End Tile ]
- Resolution: 4.768831507041507
- Scale: 18023.930105353727
-
Level ID: 15
[ Start Tile, End Tile ]
- Resolution: 2.3844157535207535
- Scale: 9011.965052676864
-
Level ID: 16
[ Start Tile, End Tile ]
- Resolution: 1.1922078767603768
- Scale: 4505.982526338432
-
Level ID: 17
[ Start Tile, End Tile ]
- Resolution: 0.5961039383801884
- Scale: 2252.991263169216
-
Level ID: 18
[ Start Tile, End Tile ]
- Resolution: 0.2980519691900942
- Scale: 1126.495631584608
- Format: MIXED
- Compression Quality: 75.0
- Origin: X: -9500964.53265511
Y: 5000964.532655111
- Spatial Reference: 3794
(3794)
LatestVCSWkid(0)
Storage Info:
- Storage Format: esriMapCacheStorageModeCompactV2
- Packet Size: 128
Initial Extent:
XMin: 308549.24584717874
YMin: -56994.394849708755
XMax: 705949.4832725892
YMax: 278468.68845444394
Spatial Reference: 3794
(3794)
LatestVCSWkid(0)
Full Extent:
XMin: 369424.0284017585
YMin: -5544.344489467971
XMax: 623760.1191668032
YMax: 209152.02658117097
Spatial Reference: 3794
(3794)
LatestVCSWkid(0)
Units: esriMeters
Supported Image Format Types: PNG32,PNG24,PNG,JPG,DIB,TIFF,EMF,PS,PDF,GIF,SVG,SVGZ,BMP
Document Info:
Title: Map1
Author:
Comments:
Subject:
Category:
Keywords: 3794,MapServer
AntialiasingMode: Fast
TextAntialiasingMode: Force
Supports Dynamic Layers: true
MaxRecordCount: 2000
MaxSelectionCount: 2000
MaxImageHeight: 4096
MaxImageWidth: 4096
Supported Query Formats: JSON, geoJSON, PBF
Supports Query Data Elements: true
Min Scale: 2.9530407084611547E8
Max Scale: 1126.495631584608
Supports Datum Transformation: true
Child Resources:
Info
Dynamic Layer
Supported Operations:
Export Map
Identify
QueryLegends
QueryDomains
Find
EstimateExportTilesSize
ExportTiles
Return Updates